BEGIN:VCALENDAR
VERSION:2.0
PRODID:-//Patrick F Pindar Council - ECPv6.15.20//NONSGML v1.0//EN
CALSCALE:GREGORIAN
METHOD:PUBLISH
X-ORIGINAL-URL:https://ramseykofc.org
X-WR-CALDESC:Events for Patrick F Pindar Council
REFRESH-INTERVAL;VALUE=DURATION:PT1H
X-Robots-Tag:noindex
X-PUBLISHED-TTL:PT1H
BEGIN:VTIMEZONE
TZID:America/New_York
BEGIN:DAYLIGHT
TZOFFSETFROM:-0500
TZOFFSETTO:-0400
TZNAME:EDT
DTSTART:20250309T070000
END:DAYLIGHT
BEGIN:STANDARD
TZOFFSETFROM:-0400
TZOFFSETTO:-0500
TZNAME:EST
DTSTART:20251102T060000
END:STANDARD
BEGIN:DAYLIGHT
TZOFFSETFROM:-0500
TZOFFSETTO:-0400
TZNAME:EDT
DTSTART:20260308T070000
END:DAYLIGHT
BEGIN:STANDARD
TZOFFSETFROM:-0400
TZOFFSETTO:-0500
TZNAME:EST
DTSTART:20261101T060000
END:STANDARD
BEGIN:DAYLIGHT
TZOFFSETFROM:-0500
TZOFFSETTO:-0400
TZNAME:EDT
DTSTART:20270314T070000
END:DAYLIGHT
BEGIN:STANDARD
TZOFFSETFROM:-0400
TZOFFSETTO:-0500
TZNAME:EST
DTSTART:20271107T060000
END:STANDARD
END:VTIMEZONE
BEGIN:VEVENT
DTSTART;TZID=America/New_York:20260208T153000
DTEND;TZID=America/New_York:20260208T170000
DTSTAMP:20260422T070235
CREATED:20240103T221259Z
LAST-MODIFIED:20260206T224224Z
UID:1448-1770564600-1770570000@ramseykofc.org
SUMMARY:Knights of Columbus - Free Throw Challenge
DESCRIPTION:The Knights of Columbus Free Throw Contest is an annual event that has been sponsored since 1972.  The contest is open to boys and girls ages 9–14 and encourages sportsmanship and healthy competition. The contest is free to enter\, and participants compete within their own age and gender.The highest scores win the age and gender levels. \n\n\n\nNote to Knight Volunteers: Come to St. Paul about 15 mins before the event (there is a game going on beforehand\, so early is great).  Volunteers are needed to 1) check in participants (form)\, 2) keep score 3) rebound the ball 4) and keep the participants (kids) organized and on the sidelines\, when not shooting.  Ray Dunleavy is leading this effort and will be there in person\, if you would like to reach out to RSVP\, please reach him at 917-613-3613.
URL:https://ramseykofc.org/event/free-throw-contest/
LOCATION:St Paul Catholic School Gym\, 187 Wyckoff Ave\, Ramsey\, New Jersey\, 07446\, United States
CATEGORIES:Community Event
ATTACH;FMTTYPE=image/jpeg:https://ramseykofc.org/wp-content/uploads/2024/01/Free-Throw-Logo.jpg
END:VEVENT
BEGIN:VEVENT
DTSTART;TZID=America/New_York:20260208T170000
DTEND;TZID=America/New_York:20260208T220000
DTSTAMP:20260422T070235
CREATED:20260202T192701Z
LAST-MODIFIED:20260202T210823Z
UID:1738-1770570000-1770588000@ramseykofc.org
SUMMARY:Super (Chili) Bowl Sunday - Cook Off!
DESCRIPTION:Donation $20 per family\, $10 per adult \n\n\n\nCome out for a fun evening to have a little chili and other party-type foodThere will be Feel free to bring your own food too to the gameRSVP to info@ramseykofc.org
URL:https://ramseykofc.org/event/super-chili-bowl-sunday-cook-off/
ATTACH;FMTTYPE=image/jpeg:https://ramseykofc.org/wp-content/uploads/2026/02/2-8-2026-Superbowl-Chill-Cook-off.jpg
END:VEVENT
END:VCALENDAR