BEGIN:VCALENDAR
VERSION:2.0
PRODID:-//Patrick F Pindar Council - ECPv6.15.20//NONSGML v1.0//EN
CALSCALE:GREGORIAN
METHOD:PUBLISH
X-ORIGINAL-URL:https://ramseykofc.org
X-WR-CALDESC:Events for Patrick F Pindar Council
REFRESH-INTERVAL;VALUE=DURATION:PT1H
X-Robots-Tag:noindex
X-PUBLISHED-TTL:PT1H
BEGIN:VTIMEZONE
TZID:America/New_York
BEGIN:DAYLIGHT
TZOFFSETFROM:-0500
TZOFFSETTO:-0400
TZNAME:EDT
DTSTART:20250309T070000
END:DAYLIGHT
BEGIN:STANDARD
TZOFFSETFROM:-0400
TZOFFSETTO:-0500
TZNAME:EST
DTSTART:20251102T060000
END:STANDARD
BEGIN:DAYLIGHT
TZOFFSETFROM:-0500
TZOFFSETTO:-0400
TZNAME:EDT
DTSTART:20260308T070000
END:DAYLIGHT
BEGIN:STANDARD
TZOFFSETFROM:-0400
TZOFFSETTO:-0500
TZNAME:EST
DTSTART:20261101T060000
END:STANDARD
BEGIN:DAYLIGHT
TZOFFSETFROM:-0500
TZOFFSETTO:-0400
TZNAME:EDT
DTSTART:20270314T070000
END:DAYLIGHT
BEGIN:STANDARD
TZOFFSETFROM:-0400
TZOFFSETTO:-0500
TZNAME:EST
DTSTART:20271107T060000
END:STANDARD
END:VTIMEZONE
BEGIN:VEVENT
DTSTART;TZID=America/New_York:20260217T193000
DTEND;TZID=America/New_York:20260217T220000
DTSTAMP:20260422T070241
CREATED:20200129T141701Z
LAST-MODIFIED:20260202T031516Z
UID:270-1771356600-1771365600@ramseykofc.org
SUMMARY:Officer Meeting - Monthly (All Members Welcome)
DESCRIPTION:All Members are welcome to attend to get insight into our planning and important topics.  This is a great way to find out what is happening and get involved!
URL:https://ramseykofc.org/event/officer-meeting-monthly-all-members-welcome-3/
CATEGORIES:Monthly Meeting
END:VEVENT
END:VCALENDAR