BEGIN:VCALENDAR
VERSION:2.0
PRODID:-//Patrick F Pindar Council - ECPv6.15.20//NONSGML v1.0//EN
CALSCALE:GREGORIAN
METHOD:PUBLISH
X-WR-CALNAME:Patrick F Pindar Council
X-ORIGINAL-URL:https://ramseykofc.org
X-WR-CALDESC:Events for Patrick F Pindar Council
REFRESH-INTERVAL;VALUE=DURATION:PT1H
X-Robots-Tag:noindex
X-PUBLISHED-TTL:PT1H
BEGIN:VTIMEZONE
TZID:America/New_York
BEGIN:DAYLIGHT
TZOFFSETFROM:-0500
TZOFFSETTO:-0400
TZNAME:EDT
DTSTART:20250309T070000
END:DAYLIGHT
BEGIN:STANDARD
TZOFFSETFROM:-0400
TZOFFSETTO:-0500
TZNAME:EST
DTSTART:20251102T060000
END:STANDARD
BEGIN:DAYLIGHT
TZOFFSETFROM:-0500
TZOFFSETTO:-0400
TZNAME:EDT
DTSTART:20260308T070000
END:DAYLIGHT
BEGIN:STANDARD
TZOFFSETFROM:-0400
TZOFFSETTO:-0500
TZNAME:EST
DTSTART:20261101T060000
END:STANDARD
BEGIN:DAYLIGHT
TZOFFSETFROM:-0500
TZOFFSETTO:-0400
TZNAME:EDT
DTSTART:20270314T070000
END:DAYLIGHT
BEGIN:STANDARD
TZOFFSETFROM:-0400
TZOFFSETTO:-0500
TZNAME:EST
DTSTART:20271107T060000
END:STANDARD
END:VTIMEZONE
BEGIN:VEVENT
DTSTART;TZID=America/New_York:20260410T120000
DTEND;TZID=America/New_York:20260412T170000
DTSTAMP:20260422T084146
CREATED:20220428T131844Z
LAST-MODIFIED:20260413T192205Z
UID:1022-1775822400-1776013200@ramseykofc.org
SUMMARY:Children's Drive - People with Intellectual Disabilities Annual Fundraiser
DESCRIPTION:All Knights and their family are encouraged to participate in this event \n\n\n\nChildren’s Drive\n\n\n\nWe hope you and your family are well.  Your time is a valuable resource and critical component of making the People with Intellectual Disabilities Annual Fundraiser a success\, so we need your help.   Please consider giving some of your time to help with the worthy cause. \n\n\n\nWe still have spots available for volunteering.  While we ask for 2 hours of commitment\, however anytime you can give is appreciated\, even if it’s an hour here or there.   \n\n\n\nPlease take a look at the board in your email (from the Pindarian) and contact us to let us know your availability. \n\n\n\nVivat Jesus! \n\n\n\nMike Gaffney\, Alex Bogaenko\, & Frank DiMola
URL:https://ramseykofc.org/event/childrens-drive-people-with-intellectual-disabilities-annual-fundraiser/
CATEGORIES:Community Event,Fund-Raising Event
ATTACH;FMTTYPE=image/jpeg:https://ramseykofc.org/wp-content/uploads/2020/03/special-childrens-drive.jpg
END:VEVENT
END:VCALENDAR