BEGIN:VCALENDAR
VERSION:2.0
PRODID:-//Patrick F Pindar Council - ECPv6.15.20//NONSGML v1.0//EN
CALSCALE:GREGORIAN
METHOD:PUBLISH
X-WR-CALNAME:Patrick F Pindar Council
X-ORIGINAL-URL:https://ramseykofc.org
X-WR-CALDESC:Events for Patrick F Pindar Council
REFRESH-INTERVAL;VALUE=DURATION:PT1H
X-Robots-Tag:noindex
X-PUBLISHED-TTL:PT1H
BEGIN:VTIMEZONE
TZID:America/New_York
BEGIN:DAYLIGHT
TZOFFSETFROM:-0500
TZOFFSETTO:-0400
TZNAME:EDT
DTSTART:20250309T070000
END:DAYLIGHT
BEGIN:STANDARD
TZOFFSETFROM:-0400
TZOFFSETTO:-0500
TZNAME:EST
DTSTART:20251102T060000
END:STANDARD
BEGIN:DAYLIGHT
TZOFFSETFROM:-0500
TZOFFSETTO:-0400
TZNAME:EDT
DTSTART:20260308T070000
END:DAYLIGHT
BEGIN:STANDARD
TZOFFSETFROM:-0400
TZOFFSETTO:-0500
TZNAME:EST
DTSTART:20261101T060000
END:STANDARD
BEGIN:DAYLIGHT
TZOFFSETFROM:-0500
TZOFFSETTO:-0400
TZNAME:EDT
DTSTART:20270314T070000
END:DAYLIGHT
BEGIN:STANDARD
TZOFFSETFROM:-0400
TZOFFSETTO:-0500
TZNAME:EST
DTSTART:20271107T060000
END:STANDARD
END:VTIMEZONE
BEGIN:VEVENT
DTSTART;TZID=America/New_York:20260525T130000
DTEND;TZID=America/New_York:20260525T170000
DTSTAMP:20260419T113937
CREATED:20230322T024309Z
LAST-MODIFIED:20260326T042230Z
UID:1307-1779714000-1779728400@ramseykofc.org
SUMMARY:Memorial Day BBQ
DESCRIPTION:Join us in our celebration of our veteran members and friends for a BBQ following the ceremony at Veterans Park in Ramsey NJ \n\n\n\nScholarship Raffle Finalist Selection! – see Harry Weber for Scholarship Raffle Tickets! \n\n\n\nBBQ at the Hall!
URL:https://ramseykofc.org/event/memorial-day-bbq/
LOCATION:the Hall (Columbian Club)\, 48 Mechanic St.\, Ramsey\, New Jersey\, 07446\, United States
CATEGORIES:Social Event
ATTACH;FMTTYPE=image/jpeg:https://ramseykofc.org/wp-content/uploads/2023/03/memorial-day-bbq.jpg
END:VEVENT
END:VCALENDAR