BEGIN:VCALENDAR
VERSION:2.0
PRODID:-//Patrick F Pindar Council - ECPv6.15.20//NONSGML v1.0//EN
CALSCALE:GREGORIAN
METHOD:PUBLISH
X-WR-CALNAME:Patrick F Pindar Council
X-ORIGINAL-URL:https://ramseykofc.org
X-WR-CALDESC:Events for Patrick F Pindar Council
REFRESH-INTERVAL;VALUE=DURATION:PT1H
X-Robots-Tag:noindex
X-PUBLISHED-TTL:PT1H
BEGIN:VTIMEZONE
TZID:America/New_York
BEGIN:DAYLIGHT
TZOFFSETFROM:-0500
TZOFFSETTO:-0400
TZNAME:EDT
DTSTART:20250309T070000
END:DAYLIGHT
BEGIN:STANDARD
TZOFFSETFROM:-0400
TZOFFSETTO:-0500
TZNAME:EST
DTSTART:20251102T060000
END:STANDARD
BEGIN:DAYLIGHT
TZOFFSETFROM:-0500
TZOFFSETTO:-0400
TZNAME:EDT
DTSTART:20260308T070000
END:DAYLIGHT
BEGIN:STANDARD
TZOFFSETFROM:-0400
TZOFFSETTO:-0500
TZNAME:EST
DTSTART:20261101T060000
END:STANDARD
BEGIN:DAYLIGHT
TZOFFSETFROM:-0500
TZOFFSETTO:-0400
TZNAME:EDT
DTSTART:20270314T070000
END:DAYLIGHT
BEGIN:STANDARD
TZOFFSETFROM:-0400
TZOFFSETTO:-0500
TZNAME:EST
DTSTART:20271107T060000
END:STANDARD
END:VTIMEZONE
BEGIN:VEVENT
DTSTART;TZID=America/New_York:20260616T190000
DTEND;TZID=America/New_York:20260616T230000
DTSTAMP:20260419T133327
CREATED:20230607T003653Z
LAST-MODIFIED:20260413T194531Z
UID:1315-1781636400-1781650800@ramseykofc.org
SUMMARY:End of Columbian Year Mass and Dinner Celebration
DESCRIPTION:An End of Fiscal Year Mass (7PM at the Hall) and Dinner Celebration and Acknowledgements at the Hall \n\n\n\nRSVP to our Worth Deputy Grand Knight Bill Ahearn
URL:https://ramseykofc.org/event/end-of-columbian-year-mass-and-dinner-celebration/
CATEGORIES:Monthly Meeting,Social Event
ATTACH;FMTTYPE=image/jpeg:https://ramseykofc.org/wp-content/uploads/2022/05/KofC-ling.jpg
END:VEVENT
END:VCALENDAR