BEGIN:VCALENDAR
VERSION:2.0
PRODID:-//Patrick F Pindar Council - ECPv6.15.20//NONSGML v1.0//EN
CALSCALE:GREGORIAN
METHOD:PUBLISH
X-WR-CALNAME:Patrick F Pindar Council
X-ORIGINAL-URL:https://ramseykofc.org
X-WR-CALDESC:Events for Patrick F Pindar Council
REFRESH-INTERVAL;VALUE=DURATION:PT1H
X-Robots-Tag:noindex
X-PUBLISHED-TTL:PT1H
BEGIN:VTIMEZONE
TZID:America/New_York
BEGIN:DAYLIGHT
TZOFFSETFROM:-0500
TZOFFSETTO:-0400
TZNAME:EDT
DTSTART:20250309T070000
END:DAYLIGHT
BEGIN:STANDARD
TZOFFSETFROM:-0400
TZOFFSETTO:-0500
TZNAME:EST
DTSTART:20251102T060000
END:STANDARD
BEGIN:DAYLIGHT
TZOFFSETFROM:-0500
TZOFFSETTO:-0400
TZNAME:EDT
DTSTART:20260308T070000
END:DAYLIGHT
BEGIN:STANDARD
TZOFFSETFROM:-0400
TZOFFSETTO:-0500
TZNAME:EST
DTSTART:20261101T060000
END:STANDARD
BEGIN:DAYLIGHT
TZOFFSETFROM:-0500
TZOFFSETTO:-0400
TZNAME:EDT
DTSTART:20270314T070000
END:DAYLIGHT
BEGIN:STANDARD
TZOFFSETFROM:-0400
TZOFFSETTO:-0500
TZNAME:EST
DTSTART:20271107T060000
END:STANDARD
END:VTIMEZONE
BEGIN:VTIMEZONE
TZID:America/New_York
BEGIN:DAYLIGHT
TZOFFSETFROM:-0500
TZOFFSETTO:-0400
TZNAME:EDT
DTSTART:20250309T070000
END:DAYLIGHT
BEGIN:STANDARD
TZOFFSETFROM:-0400
TZOFFSETTO:-0500
TZNAME:EST
DTSTART:20251102T060000
END:STANDARD
BEGIN:DAYLIGHT
TZOFFSETFROM:-0500
TZOFFSETTO:-0400
TZNAME:EDT
DTSTART:20260308T070000
END:DAYLIGHT
BEGIN:STANDARD
TZOFFSETFROM:-0400
TZOFFSETTO:-0500
TZNAME:EST
DTSTART:20261101T060000
END:STANDARD
BEGIN:DAYLIGHT
TZOFFSETFROM:-0500
TZOFFSETTO:-0400
TZNAME:EDT
DTSTART:20270314T070000
END:DAYLIGHT
BEGIN:STANDARD
TZOFFSETFROM:-0400
TZOFFSETTO:-0500
TZNAME:EST
DTSTART:20271107T060000
END:STANDARD
END:VTIMEZONE
BEGIN:VEVENT
DTSTART;TZID=America/New_York:20260303T200000
DTEND;TZID=America/New_York:20260303T220000
DTSTAMP:20260422T070010
CREATED:20260202T190242Z
LAST-MODIFIED:20260202T190312Z
UID:1733-1772568000-1772575200@ramseykofc.org
SUMMARY:General Member Meeting - Monthly
DESCRIPTION:All Members are encouraged to attend this meeting \n\n\n\nThis is a great way to find out what is happening\, get involved and enjoy the evening!
URL:https://ramseykofc.org/event/general-member-meeting-monthly-3/
END:VEVENT
BEGIN:VEVENT
DTSTART;TZID=America/New_York:20260306T070000
DTEND;TZID=America/New_York:20260306T230000
DTSTAMP:20260422T070010
CREATED:20260202T200546Z
LAST-MODIFIED:20260204T213917Z
UID:1743-1772780400-1772838000@ramseykofc.org
SUMMARY:The Grand Celebration of St. Patrick Charity Event!
DESCRIPTION:This is our Annual St. Patrick’s Day Charity Event! \n\n\n\nClick Below in this Calendar Entry for details \n\n\n\nWe will have great traditional (and non-traditional) Entertainment\, Food\, Beverage in a fine setting!
URL:https://ramseykofc.org/event/st-patricks-day-charity-event/
LOCATION:48 Mechanic St.\, Ramsey NJ\, 48 Mechanic St\, Ramsey\, New Jersey\, 07446\, United States
ATTACH;FMTTYPE=image/jpeg:https://ramseykofc.org/wp-content/uploads/2023/02/st-pats-hat-2023.jpg
END:VEVENT
BEGIN:VEVENT
DTSTART;TZID=America/New_York:20260309T140000
DTEND;TZID=America/New_York:20260309T190000
DTSTAMP:20260422T070010
CREATED:20221019T005853Z
LAST-MODIFIED:20260206T220933Z
UID:1114-1773064800-1773082800@ramseykofc.org
SUMMARY:Blood Drive
DESCRIPTION:This is our blood drive for the Patrick F. Pindar Council.This event is at the Hall (48 Mechanic St.\, Ramsey NJ 07446) \n\n\n\nReach out to Frank DiMola with any questions. \n\n\n\nClick this link to get more info to pre-register – TBD
URL:https://ramseykofc.org/event/blood-drive/
CATEGORIES:Blood Drive
ATTACH;FMTTYPE=image/jpeg:https://ramseykofc.org/wp-content/uploads/2020/11/Blood-Drive-11-12-2019-fb.jpg
END:VEVENT
BEGIN:VEVENT
DTSTART;TZID=America/New_York:20260317T193000
DTEND;TZID=America/New_York:20260317T213000
DTSTAMP:20260422T070010
CREATED:20200129T141903Z
LAST-MODIFIED:20260202T212321Z
UID:272-1773775800-1773783000@ramseykofc.org
SUMMARY:Officer Meeting - Monthly - (All Members Welcome)
DESCRIPTION:All Members are welcome to attend to get insight into our planning and important topics.  This is a great way to find out what is happening and get involved!
URL:https://ramseykofc.org/event/officer-meeting-monthly-all-members-welcome-4/
CATEGORIES:Monthly Meeting
END:VEVENT
END:VCALENDAR